BEGIN:VCALENDAR
VERSION:2.0
PRODID:-//The Selfhelp Home Senior Living Community - ECPv6.15.20//NONSGML v1.0//EN
CALSCALE:GREGORIAN
METHOD:PUBLISH
X-WR-CALNAME:The Selfhelp Home Senior Living Community
X-ORIGINAL-URL:https://selfhelphome.org
X-WR-CALDESC:Events for The Selfhelp Home Senior Living Community
REFRESH-INTERVAL;VALUE=DURATION:PT1H
X-Robots-Tag:noindex
X-PUBLISHED-TTL:PT1H
BEGIN:VTIMEZONE
TZID:America/Chicago
BEGIN:DAYLIGHT
TZOFFSETFROM:-0600
TZOFFSETTO:-0500
TZNAME:CDT
DTSTART:20220313T080000
END:DAYLIGHT
BEGIN:STANDARD
TZOFFSETFROM:-0500
TZOFFSETTO:-0600
TZNAME:CST
DTSTART:20221106T070000
END:STANDARD
BEGIN:DAYLIGHT
TZOFFSETFROM:-0600
TZOFFSETTO:-0500
TZNAME:CDT
DTSTART:20230312T080000
END:DAYLIGHT
BEGIN:STANDARD
TZOFFSETFROM:-0500
TZOFFSETTO:-0600
TZNAME:CST
DTSTART:20231105T070000
END:STANDARD
BEGIN:DAYLIGHT
TZOFFSETFROM:-0600
TZOFFSETTO:-0500
TZNAME:CDT
DTSTART:20240310T080000
END:DAYLIGHT
BEGIN:STANDARD
TZOFFSETFROM:-0500
TZOFFSETTO:-0600
TZNAME:CST
DTSTART:20241103T070000
END:STANDARD
END:VTIMEZONE
BEGIN:VEVENT
DTSTART;TZID=America/Chicago:20230105T110000
DTEND;TZID=America/Chicago:20230105T120000
DTSTAMP:20260421T045201
CREATED:20230105T111405Z
LAST-MODIFIED:20241128T022442Z
UID:25834-1672916400-1672920000@selfhelphome.org
SUMMARY:Yiddish Club with Benna
DESCRIPTION:Join us for Yiddish with Benna! An hour of music and schmooze.\nPrior Yiddish knowledge is not required. \n 
URL:https://selfhelphome.org/event/yiddish-club-with-benna/2023-01-05/
END:VEVENT
BEGIN:VEVENT
DTSTART;TZID=America/Chicago:20230105T133000
DTEND;TZID=America/Chicago:20230105T143000
DTSTAMP:20260421T045201
CREATED:20230105T112724Z
LAST-MODIFIED:20241128T023326Z
UID:25856-1672925400-1672929000@selfhelphome.org
SUMMARY:Friday Discussion Group with Rey
DESCRIPTION:A weekly discussion group of various topics led by residents and staff member\, Rey.\nTopics range from current events to historical topics.
URL:https://selfhelphome.org/event/friday-discussion-group-with-harry/2023-01-05/
END:VEVENT
BEGIN:VEVENT
DTSTART;TZID=America/Chicago:20230105T153000
DTEND;TZID=America/Chicago:20230105T153000
DTSTAMP:20260421T045201
CREATED:20230105T115749Z
LAST-MODIFIED:20241128T022212Z
UID:25900-1672932600-1672932600@selfhelphome.org
SUMMARY:Sing-a-long with Mia!
DESCRIPTION:Join Mia from the Greater Chicago Music Therapy Inc. Organization\nfor a fun and inspiring Sing-a-long!
URL:https://selfhelphome.org/event/singalong_/2023-01-05/
END:VEVENT
END:VCALENDAR