BEGIN:VCALENDAR
VERSION:2.0
PRODID:-//The Selfhelp Home Senior Living Community - ECPv6.15.20//NONSGML v1.0//EN
CALSCALE:GREGORIAN
METHOD:PUBLISH
X-WR-CALNAME:The Selfhelp Home Senior Living Community
X-ORIGINAL-URL:https://selfhelphome.org
X-WR-CALDESC:Events for The Selfhelp Home Senior Living Community
REFRESH-INTERVAL;VALUE=DURATION:PT1H
X-Robots-Tag:noindex
X-PUBLISHED-TTL:PT1H
BEGIN:VTIMEZONE
TZID:America/Chicago
BEGIN:DAYLIGHT
TZOFFSETFROM:-0600
TZOFFSETTO:-0500
TZNAME:CDT
DTSTART:20230312T080000
END:DAYLIGHT
BEGIN:STANDARD
TZOFFSETFROM:-0500
TZOFFSETTO:-0600
TZNAME:CST
DTSTART:20231105T070000
END:STANDARD
BEGIN:DAYLIGHT
TZOFFSETFROM:-0600
TZOFFSETTO:-0500
TZNAME:CDT
DTSTART:20240310T080000
END:DAYLIGHT
BEGIN:STANDARD
TZOFFSETFROM:-0500
TZOFFSETTO:-0600
TZNAME:CST
DTSTART:20241103T070000
END:STANDARD
BEGIN:DAYLIGHT
TZOFFSETFROM:-0600
TZOFFSETTO:-0500
TZNAME:CDT
DTSTART:20250309T080000
END:DAYLIGHT
BEGIN:STANDARD
TZOFFSETFROM:-0500
TZOFFSETTO:-0600
TZNAME:CST
DTSTART:20251102T070000
END:STANDARD
END:VTIMEZONE
BEGIN:VEVENT
DTSTART;TZID=America/Chicago:20240108T093000
DTEND;TZID=America/Chicago:20240108T100000
DTSTAMP:20260423T054131
CREATED:20230112T053551Z
LAST-MODIFIED:20241128T014752Z
UID:25970-1704706200-1704708000@selfhelphome.org
SUMMARY:Morning Time Exercise
DESCRIPTION:Join us for Exercise classes Monday – Friday from 9:30-10:00AM
URL:https://selfhelphome.org/event/morningexercise/2024-01-08/
CATEGORIES:Health & Fitness
END:VEVENT
END:VCALENDAR