BEGIN:VCALENDAR
VERSION:2.0
PRODID:-//The Selfhelp Home Senior Living Community - ECPv6.15.20//NONSGML v1.0//EN
CALSCALE:GREGORIAN
METHOD:PUBLISH
X-ORIGINAL-URL:https://selfhelphome.org
X-WR-CALDESC:Events for The Selfhelp Home Senior Living Community
REFRESH-INTERVAL;VALUE=DURATION:PT1H
X-Robots-Tag:noindex
X-PUBLISHED-TTL:PT1H
BEGIN:VTIMEZONE
TZID:America/Chicago
BEGIN:DAYLIGHT
TZOFFSETFROM:-0600
TZOFFSETTO:-0500
TZNAME:CDT
DTSTART:20240310T080000
END:DAYLIGHT
BEGIN:STANDARD
TZOFFSETFROM:-0500
TZOFFSETTO:-0600
TZNAME:CST
DTSTART:20241103T070000
END:STANDARD
BEGIN:DAYLIGHT
TZOFFSETFROM:-0600
TZOFFSETTO:-0500
TZNAME:CDT
DTSTART:20250309T080000
END:DAYLIGHT
BEGIN:STANDARD
TZOFFSETFROM:-0500
TZOFFSETTO:-0600
TZNAME:CST
DTSTART:20251102T070000
END:STANDARD
BEGIN:DAYLIGHT
TZOFFSETFROM:-0600
TZOFFSETTO:-0500
TZNAME:CDT
DTSTART:20260308T080000
END:DAYLIGHT
BEGIN:STANDARD
TZOFFSETFROM:-0500
TZOFFSETTO:-0600
TZNAME:CST
DTSTART:20261101T070000
END:STANDARD
END:VTIMEZONE
BEGIN:VEVENT
DTSTART;TZID=America/Chicago:20250501T093000
DTEND;TZID=America/Chicago:20250501T100000
DTSTAMP:20260420T062309
CREATED:20230112T053551Z
LAST-MODIFIED:20230112T053551Z
UID:33136-1746091800-1746093600@selfhelphome.org
SUMMARY:Morning Time Exercise
DESCRIPTION:Join us for Exercise classes Monday – Friday from 9:30-10:00AM
URL:https://selfhelphome.org/event/morningexercise/2025-05-01/
CATEGORIES:Health & Fitness
END:VEVENT
BEGIN:VEVENT
DTSTART;TZID=America/Chicago:20250502T093000
DTEND;TZID=America/Chicago:20250502T100000
DTSTAMP:20260420T062309
CREATED:20230112T053551Z
LAST-MODIFIED:20230112T053551Z
UID:33137-1746178200-1746180000@selfhelphome.org
SUMMARY:Morning Time Exercise
DESCRIPTION:Join us for Exercise classes Monday – Friday from 9:30-10:00AM
URL:https://selfhelphome.org/event/morningexercise/2025-05-02/
CATEGORIES:Health & Fitness
END:VEVENT
BEGIN:VEVENT
DTSTART;TZID=America/Chicago:20250505T093000
DTEND;TZID=America/Chicago:20250505T100000
DTSTAMP:20260420T062309
CREATED:20230112T053551Z
LAST-MODIFIED:20230112T053551Z
UID:33138-1746437400-1746439200@selfhelphome.org
SUMMARY:Morning Time Exercise
DESCRIPTION:Join us for Exercise classes Monday – Friday from 9:30-10:00AM
URL:https://selfhelphome.org/event/morningexercise/2025-05-05/
CATEGORIES:Health & Fitness
END:VEVENT
BEGIN:VEVENT
DTSTART;TZID=America/Chicago:20250506T093000
DTEND;TZID=America/Chicago:20250506T100000
DTSTAMP:20260420T062309
CREATED:20230112T053551Z
LAST-MODIFIED:20230112T053551Z
UID:33139-1746523800-1746525600@selfhelphome.org
SUMMARY:Morning Time Exercise
DESCRIPTION:Join us for Exercise classes Monday – Friday from 9:30-10:00AM
URL:https://selfhelphome.org/event/morningexercise/2025-05-06/
CATEGORIES:Health & Fitness
END:VEVENT
BEGIN:VEVENT
DTSTART;TZID=America/Chicago:20250507T093000
DTEND;TZID=America/Chicago:20250507T100000
DTSTAMP:20260420T062309
CREATED:20230112T053551Z
LAST-MODIFIED:20230112T053551Z
UID:33140-1746610200-1746612000@selfhelphome.org
SUMMARY:Morning Time Exercise
DESCRIPTION:Join us for Exercise classes Monday – Friday from 9:30-10:00AM
URL:https://selfhelphome.org/event/morningexercise/2025-05-07/
CATEGORIES:Health & Fitness
END:VEVENT
BEGIN:VEVENT
DTSTART;TZID=America/Chicago:20250508T093000
DTEND;TZID=America/Chicago:20250508T100000
DTSTAMP:20260420T062309
CREATED:20230112T053551Z
LAST-MODIFIED:20230112T053551Z
UID:33141-1746696600-1746698400@selfhelphome.org
SUMMARY:Morning Time Exercise
DESCRIPTION:Join us for Exercise classes Monday – Friday from 9:30-10:00AM
URL:https://selfhelphome.org/event/morningexercise/2025-05-08/
CATEGORIES:Health & Fitness
END:VEVENT
BEGIN:VEVENT
DTSTART;TZID=America/Chicago:20250509T093000
DTEND;TZID=America/Chicago:20250509T100000
DTSTAMP:20260420T062309
CREATED:20230112T053551Z
LAST-MODIFIED:20230112T053551Z
UID:33142-1746783000-1746784800@selfhelphome.org
SUMMARY:Morning Time Exercise
DESCRIPTION:Join us for Exercise classes Monday – Friday from 9:30-10:00AM
URL:https://selfhelphome.org/event/morningexercise/2025-05-09/
CATEGORIES:Health & Fitness
END:VEVENT
BEGIN:VEVENT
DTSTART;TZID=America/Chicago:20250512T093000
DTEND;TZID=America/Chicago:20250512T100000
DTSTAMP:20260420T062309
CREATED:20230112T053551Z
LAST-MODIFIED:20230112T053551Z
UID:33143-1747042200-1747044000@selfhelphome.org
SUMMARY:Morning Time Exercise
DESCRIPTION:Join us for Exercise classes Monday – Friday from 9:30-10:00AM
URL:https://selfhelphome.org/event/morningexercise/2025-05-12/
CATEGORIES:Health & Fitness
END:VEVENT
BEGIN:VEVENT
DTSTART;TZID=America/Chicago:20250513T093000
DTEND;TZID=America/Chicago:20250513T100000
DTSTAMP:20260420T062309
CREATED:20230112T053551Z
LAST-MODIFIED:20230112T053551Z
UID:33144-1747128600-1747130400@selfhelphome.org
SUMMARY:Morning Time Exercise
DESCRIPTION:Join us for Exercise classes Monday – Friday from 9:30-10:00AM
URL:https://selfhelphome.org/event/morningexercise/2025-05-13/
CATEGORIES:Health & Fitness
END:VEVENT
BEGIN:VEVENT
DTSTART;TZID=America/Chicago:20250514T093000
DTEND;TZID=America/Chicago:20250514T100000
DTSTAMP:20260420T062309
CREATED:20230112T053551Z
LAST-MODIFIED:20230112T053551Z
UID:33145-1747215000-1747216800@selfhelphome.org
SUMMARY:Morning Time Exercise
DESCRIPTION:Join us for Exercise classes Monday – Friday from 9:30-10:00AM
URL:https://selfhelphome.org/event/morningexercise/2025-05-14/
CATEGORIES:Health & Fitness
END:VEVENT
BEGIN:VEVENT
DTSTART;TZID=America/Chicago:20250515T093000
DTEND;TZID=America/Chicago:20250515T100000
DTSTAMP:20260420T062309
CREATED:20230112T053551Z
LAST-MODIFIED:20230112T053551Z
UID:33146-1747301400-1747303200@selfhelphome.org
SUMMARY:Morning Time Exercise
DESCRIPTION:Join us for Exercise classes Monday – Friday from 9:30-10:00AM
URL:https://selfhelphome.org/event/morningexercise/2025-05-15/
CATEGORIES:Health & Fitness
END:VEVENT
BEGIN:VEVENT
DTSTART;TZID=America/Chicago:20250516T093000
DTEND;TZID=America/Chicago:20250516T100000
DTSTAMP:20260420T062309
CREATED:20230112T053551Z
LAST-MODIFIED:20230112T053551Z
UID:33147-1747387800-1747389600@selfhelphome.org
SUMMARY:Morning Time Exercise
DESCRIPTION:Join us for Exercise classes Monday – Friday from 9:30-10:00AM
URL:https://selfhelphome.org/event/morningexercise/2025-05-16/
CATEGORIES:Health & Fitness
END:VEVENT
BEGIN:VEVENT
DTSTART;TZID=America/Chicago:20250519T093000
DTEND;TZID=America/Chicago:20250519T100000
DTSTAMP:20260420T062309
CREATED:20230112T053551Z
LAST-MODIFIED:20230112T053551Z
UID:33148-1747647000-1747648800@selfhelphome.org
SUMMARY:Morning Time Exercise
DESCRIPTION:Join us for Exercise classes Monday – Friday from 9:30-10:00AM
URL:https://selfhelphome.org/event/morningexercise/2025-05-19/
CATEGORIES:Health & Fitness
END:VEVENT
BEGIN:VEVENT
DTSTART;TZID=America/Chicago:20250520T093000
DTEND;TZID=America/Chicago:20250520T100000
DTSTAMP:20260420T062309
CREATED:20230112T053551Z
LAST-MODIFIED:20230112T053551Z
UID:33149-1747733400-1747735200@selfhelphome.org
SUMMARY:Morning Time Exercise
DESCRIPTION:Join us for Exercise classes Monday – Friday from 9:30-10:00AM
URL:https://selfhelphome.org/event/morningexercise/2025-05-20/
CATEGORIES:Health & Fitness
END:VEVENT
BEGIN:VEVENT
DTSTART;TZID=America/Chicago:20250521T093000
DTEND;TZID=America/Chicago:20250521T100000
DTSTAMP:20260420T062309
CREATED:20230112T053551Z
LAST-MODIFIED:20230112T053551Z
UID:33150-1747819800-1747821600@selfhelphome.org
SUMMARY:Morning Time Exercise
DESCRIPTION:Join us for Exercise classes Monday – Friday from 9:30-10:00AM
URL:https://selfhelphome.org/event/morningexercise/2025-05-21/
CATEGORIES:Health & Fitness
END:VEVENT
BEGIN:VEVENT
DTSTART;TZID=America/Chicago:20250522T093000
DTEND;TZID=America/Chicago:20250522T100000
DTSTAMP:20260420T062309
CREATED:20230112T053551Z
LAST-MODIFIED:20230112T053551Z
UID:33151-1747906200-1747908000@selfhelphome.org
SUMMARY:Morning Time Exercise
DESCRIPTION:Join us for Exercise classes Monday – Friday from 9:30-10:00AM
URL:https://selfhelphome.org/event/morningexercise/2025-05-22/
CATEGORIES:Health & Fitness
END:VEVENT
BEGIN:VEVENT
DTSTART;TZID=America/Chicago:20250523T093000
DTEND;TZID=America/Chicago:20250523T100000
DTSTAMP:20260420T062309
CREATED:20230112T053551Z
LAST-MODIFIED:20230112T053551Z
UID:33152-1747992600-1747994400@selfhelphome.org
SUMMARY:Morning Time Exercise
DESCRIPTION:Join us for Exercise classes Monday – Friday from 9:30-10:00AM
URL:https://selfhelphome.org/event/morningexercise/2025-05-23/
CATEGORIES:Health & Fitness
END:VEVENT
BEGIN:VEVENT
DTSTART;TZID=America/Chicago:20250526T093000
DTEND;TZID=America/Chicago:20250526T100000
DTSTAMP:20260420T062309
CREATED:20230112T053551Z
LAST-MODIFIED:20230112T053551Z
UID:33153-1748251800-1748253600@selfhelphome.org
SUMMARY:Morning Time Exercise
DESCRIPTION:Join us for Exercise classes Monday – Friday from 9:30-10:00AM
URL:https://selfhelphome.org/event/morningexercise/2025-05-26/
CATEGORIES:Health & Fitness
END:VEVENT
BEGIN:VEVENT
DTSTART;TZID=America/Chicago:20250527T093000
DTEND;TZID=America/Chicago:20250527T100000
DTSTAMP:20260420T062309
CREATED:20230112T053551Z
LAST-MODIFIED:20230112T053551Z
UID:33271-1748338200-1748340000@selfhelphome.org
SUMMARY:Morning Time Exercise
DESCRIPTION:Join us for Exercise classes Monday – Friday from 9:30-10:00AM
URL:https://selfhelphome.org/event/morningexercise/2025-05-27/
CATEGORIES:Health & Fitness
END:VEVENT
BEGIN:VEVENT
DTSTART;TZID=America/Chicago:20250528T093000
DTEND;TZID=America/Chicago:20250528T100000
DTSTAMP:20260420T062309
CREATED:20230112T053551Z
LAST-MODIFIED:20230112T053551Z
UID:33273-1748424600-1748426400@selfhelphome.org
SUMMARY:Morning Time Exercise
DESCRIPTION:Join us for Exercise classes Monday – Friday from 9:30-10:00AM
URL:https://selfhelphome.org/event/morningexercise/2025-05-28/
CATEGORIES:Health & Fitness
END:VEVENT
BEGIN:VEVENT
DTSTART;TZID=America/Chicago:20250529T093000
DTEND;TZID=America/Chicago:20250529T100000
DTSTAMP:20260420T062309
CREATED:20230112T053551Z
LAST-MODIFIED:20230112T053551Z
UID:33275-1748511000-1748512800@selfhelphome.org
SUMMARY:Morning Time Exercise
DESCRIPTION:Join us for Exercise classes Monday – Friday from 9:30-10:00AM
URL:https://selfhelphome.org/event/morningexercise/2025-05-29/
CATEGORIES:Health & Fitness
END:VEVENT
BEGIN:VEVENT
DTSTART;TZID=America/Chicago:20250530T093000
DTEND;TZID=America/Chicago:20250530T100000
DTSTAMP:20260420T062309
CREATED:20230112T053551Z
LAST-MODIFIED:20230112T053551Z
UID:33278-1748597400-1748599200@selfhelphome.org
SUMMARY:Morning Time Exercise
DESCRIPTION:Join us for Exercise classes Monday – Friday from 9:30-10:00AM
URL:https://selfhelphome.org/event/morningexercise/2025-05-30/
CATEGORIES:Health & Fitness
END:VEVENT
END:VCALENDAR