BEGIN:VCALENDAR
VERSION:2.0
PRODID:-//The Selfhelp Home Senior Living Community - ECPv6.15.20//NONSGML v1.0//EN
CALSCALE:GREGORIAN
METHOD:PUBLISH
X-ORIGINAL-URL:https://selfhelphome.org
X-WR-CALDESC:Events for The Selfhelp Home Senior Living Community
REFRESH-INTERVAL;VALUE=DURATION:PT1H
X-Robots-Tag:noindex
X-PUBLISHED-TTL:PT1H
BEGIN:VTIMEZONE
TZID:America/Chicago
BEGIN:DAYLIGHT
TZOFFSETFROM:-0600
TZOFFSETTO:-0500
TZNAME:CDT
DTSTART:20240310T080000
END:DAYLIGHT
BEGIN:STANDARD
TZOFFSETFROM:-0500
TZOFFSETTO:-0600
TZNAME:CST
DTSTART:20241103T070000
END:STANDARD
BEGIN:DAYLIGHT
TZOFFSETFROM:-0600
TZOFFSETTO:-0500
TZNAME:CDT
DTSTART:20250309T080000
END:DAYLIGHT
BEGIN:STANDARD
TZOFFSETFROM:-0500
TZOFFSETTO:-0600
TZNAME:CST
DTSTART:20251102T070000
END:STANDARD
BEGIN:DAYLIGHT
TZOFFSETFROM:-0600
TZOFFSETTO:-0500
TZNAME:CDT
DTSTART:20260308T080000
END:DAYLIGHT
BEGIN:STANDARD
TZOFFSETFROM:-0500
TZOFFSETTO:-0600
TZNAME:CST
DTSTART:20261101T070000
END:STANDARD
END:VTIMEZONE
BEGIN:VEVENT
DTSTART;TZID=America/Chicago:20250620T093000
DTEND;TZID=America/Chicago:20250620T100000
DTSTAMP:20260420T125859
CREATED:20230112T053551Z
LAST-MODIFIED:20230112T053551Z
UID:33373-1750411800-1750413600@selfhelphome.org
SUMMARY:Morning Time Exercise
DESCRIPTION:Join us for Exercise classes Monday – Friday from 9:30-10:00AM
URL:https://selfhelphome.org/event/morningexercise/2025-06-20/
CATEGORIES:Health & Fitness
END:VEVENT
BEGIN:VEVENT
DTSTART;TZID=America/Chicago:20250623T093000
DTEND;TZID=America/Chicago:20250623T100000
DTSTAMP:20260420T125859
CREATED:20230112T053551Z
LAST-MODIFIED:20230112T053551Z
UID:33437-1750671000-1750672800@selfhelphome.org
SUMMARY:Morning Time Exercise
DESCRIPTION:Join us for Exercise classes Monday – Friday from 9:30-10:00AM
URL:https://selfhelphome.org/event/morningexercise/2025-06-23/
CATEGORIES:Health & Fitness
END:VEVENT
BEGIN:VEVENT
DTSTART;TZID=America/Chicago:20250624T093000
DTEND;TZID=America/Chicago:20250624T100000
DTSTAMP:20260420T125859
CREATED:20230112T053551Z
LAST-MODIFIED:20230112T053551Z
UID:33444-1750757400-1750759200@selfhelphome.org
SUMMARY:Morning Time Exercise
DESCRIPTION:Join us for Exercise classes Monday – Friday from 9:30-10:00AM
URL:https://selfhelphome.org/event/morningexercise/2025-06-24/
CATEGORIES:Health & Fitness
END:VEVENT
BEGIN:VEVENT
DTSTART;TZID=America/Chicago:20250625T093000
DTEND;TZID=America/Chicago:20250625T100000
DTSTAMP:20260420T125859
CREATED:20230112T053551Z
LAST-MODIFIED:20230112T053551Z
UID:33446-1750843800-1750845600@selfhelphome.org
SUMMARY:Morning Time Exercise
DESCRIPTION:Join us for Exercise classes Monday – Friday from 9:30-10:00AM
URL:https://selfhelphome.org/event/morningexercise/2025-06-25/
CATEGORIES:Health & Fitness
END:VEVENT
BEGIN:VEVENT
DTSTART;TZID=America/Chicago:20250626T093000
DTEND;TZID=America/Chicago:20250626T100000
DTSTAMP:20260420T125859
CREATED:20230112T053551Z
LAST-MODIFIED:20230112T053551Z
UID:33448-1750930200-1750932000@selfhelphome.org
SUMMARY:Morning Time Exercise
DESCRIPTION:Join us for Exercise classes Monday – Friday from 9:30-10:00AM
URL:https://selfhelphome.org/event/morningexercise/2025-06-26/
CATEGORIES:Health & Fitness
END:VEVENT
BEGIN:VEVENT
DTSTART;TZID=America/Chicago:20250627T093000
DTEND;TZID=America/Chicago:20250627T100000
DTSTAMP:20260420T125859
CREATED:20230112T053551Z
LAST-MODIFIED:20230112T053551Z
UID:33451-1751016600-1751018400@selfhelphome.org
SUMMARY:Morning Time Exercise
DESCRIPTION:Join us for Exercise classes Monday – Friday from 9:30-10:00AM
URL:https://selfhelphome.org/event/morningexercise/2025-06-27/
CATEGORIES:Health & Fitness
END:VEVENT
BEGIN:VEVENT
DTSTART;TZID=America/Chicago:20250630T093000
DTEND;TZID=America/Chicago:20250630T100000
DTSTAMP:20260420T125859
CREATED:20230112T053551Z
LAST-MODIFIED:20230112T053551Z
UID:33458-1751275800-1751277600@selfhelphome.org
SUMMARY:Morning Time Exercise
DESCRIPTION:Join us for Exercise classes Monday – Friday from 9:30-10:00AM
URL:https://selfhelphome.org/event/morningexercise/2025-06-30/
CATEGORIES:Health & Fitness
END:VEVENT
BEGIN:VEVENT
DTSTART;TZID=America/Chicago:20250701T093000
DTEND;TZID=America/Chicago:20250701T100000
DTSTAMP:20260420T125859
CREATED:20230112T053551Z
LAST-MODIFIED:20230112T053551Z
UID:33464-1751362200-1751364000@selfhelphome.org
SUMMARY:Morning Time Exercise
DESCRIPTION:Join us for Exercise classes Monday – Friday from 9:30-10:00AM
URL:https://selfhelphome.org/event/morningexercise/2025-07-01/
CATEGORIES:Health & Fitness
END:VEVENT
BEGIN:VEVENT
DTSTART;TZID=America/Chicago:20250702T093000
DTEND;TZID=America/Chicago:20250702T100000
DTSTAMP:20260420T125859
CREATED:20230112T053551Z
LAST-MODIFIED:20230112T053551Z
UID:33467-1751448600-1751450400@selfhelphome.org
SUMMARY:Morning Time Exercise
DESCRIPTION:Join us for Exercise classes Monday – Friday from 9:30-10:00AM
URL:https://selfhelphome.org/event/morningexercise/2025-07-02/
CATEGORIES:Health & Fitness
END:VEVENT
BEGIN:VEVENT
DTSTART;TZID=America/Chicago:20250703T093000
DTEND;TZID=America/Chicago:20250703T100000
DTSTAMP:20260420T125859
CREATED:20230112T053551Z
LAST-MODIFIED:20230112T053551Z
UID:33470-1751535000-1751536800@selfhelphome.org
SUMMARY:Morning Time Exercise
DESCRIPTION:Join us for Exercise classes Monday – Friday from 9:30-10:00AM
URL:https://selfhelphome.org/event/morningexercise/2025-07-03/
CATEGORIES:Health & Fitness
END:VEVENT
BEGIN:VEVENT
DTSTART;TZID=America/Chicago:20250704T093000
DTEND;TZID=America/Chicago:20250704T100000
DTSTAMP:20260420T125859
CREATED:20230112T053551Z
LAST-MODIFIED:20230112T053551Z
UID:33477-1751621400-1751623200@selfhelphome.org
SUMMARY:Morning Time Exercise
DESCRIPTION:Join us for Exercise classes Monday – Friday from 9:30-10:00AM
URL:https://selfhelphome.org/event/morningexercise/2025-07-04/
CATEGORIES:Health & Fitness
END:VEVENT
BEGIN:VEVENT
DTSTART;TZID=America/Chicago:20250707T093000
DTEND;TZID=America/Chicago:20250707T100000
DTSTAMP:20260420T125859
CREATED:20230112T053551Z
LAST-MODIFIED:20230112T053551Z
UID:33483-1751880600-1751882400@selfhelphome.org
SUMMARY:Morning Time Exercise
DESCRIPTION:Join us for Exercise classes Monday – Friday from 9:30-10:00AM
URL:https://selfhelphome.org/event/morningexercise/2025-07-07/
CATEGORIES:Health & Fitness
END:VEVENT
BEGIN:VEVENT
DTSTART;TZID=America/Chicago:20250708T093000
DTEND;TZID=America/Chicago:20250708T100000
DTSTAMP:20260420T125859
CREATED:20230112T053551Z
LAST-MODIFIED:20230112T053551Z
UID:33485-1751967000-1751968800@selfhelphome.org
SUMMARY:Morning Time Exercise
DESCRIPTION:Join us for Exercise classes Monday – Friday from 9:30-10:00AM
URL:https://selfhelphome.org/event/morningexercise/2025-07-08/
CATEGORIES:Health & Fitness
END:VEVENT
BEGIN:VEVENT
DTSTART;TZID=America/Chicago:20250709T093000
DTEND;TZID=America/Chicago:20250709T100000
DTSTAMP:20260420T125859
CREATED:20230112T053551Z
LAST-MODIFIED:20230112T053551Z
UID:33491-1752053400-1752055200@selfhelphome.org
SUMMARY:Morning Time Exercise
DESCRIPTION:Join us for Exercise classes Monday – Friday from 9:30-10:00AM
URL:https://selfhelphome.org/event/morningexercise/2025-07-09/
CATEGORIES:Health & Fitness
END:VEVENT
BEGIN:VEVENT
DTSTART;TZID=America/Chicago:20250710T093000
DTEND;TZID=America/Chicago:20250710T100000
DTSTAMP:20260420T125859
CREATED:20230112T053551Z
LAST-MODIFIED:20230112T053551Z
UID:33494-1752139800-1752141600@selfhelphome.org
SUMMARY:Morning Time Exercise
DESCRIPTION:Join us for Exercise classes Monday – Friday from 9:30-10:00AM
URL:https://selfhelphome.org/event/morningexercise/2025-07-10/
CATEGORIES:Health & Fitness
END:VEVENT
BEGIN:VEVENT
DTSTART;TZID=America/Chicago:20250711T093000
DTEND;TZID=America/Chicago:20250711T100000
DTSTAMP:20260420T125859
CREATED:20230112T053551Z
LAST-MODIFIED:20230112T053551Z
UID:33498-1752226200-1752228000@selfhelphome.org
SUMMARY:Morning Time Exercise
DESCRIPTION:Join us for Exercise classes Monday – Friday from 9:30-10:00AM
URL:https://selfhelphome.org/event/morningexercise/2025-07-11/
CATEGORIES:Health & Fitness
END:VEVENT
BEGIN:VEVENT
DTSTART;TZID=America/Chicago:20250714T093000
DTEND;TZID=America/Chicago:20250714T100000
DTSTAMP:20260420T125859
CREATED:20230112T053551Z
LAST-MODIFIED:20230112T053551Z
UID:33512-1752485400-1752487200@selfhelphome.org
SUMMARY:Morning Time Exercise
DESCRIPTION:Join us for Exercise classes Monday – Friday from 9:30-10:00AM
URL:https://selfhelphome.org/event/morningexercise/2025-07-14/
CATEGORIES:Health & Fitness
END:VEVENT
BEGIN:VEVENT
DTSTART;TZID=America/Chicago:20250715T093000
DTEND;TZID=America/Chicago:20250715T100000
DTSTAMP:20260420T125859
CREATED:20230112T053551Z
LAST-MODIFIED:20230112T053551Z
UID:33514-1752571800-1752573600@selfhelphome.org
SUMMARY:Morning Time Exercise
DESCRIPTION:Join us for Exercise classes Monday – Friday from 9:30-10:00AM
URL:https://selfhelphome.org/event/morningexercise/2025-07-15/
CATEGORIES:Health & Fitness
END:VEVENT
BEGIN:VEVENT
DTSTART;TZID=America/Chicago:20250716T093000
DTEND;TZID=America/Chicago:20250716T100000
DTSTAMP:20260420T125859
CREATED:20230112T053551Z
LAST-MODIFIED:20230112T053551Z
UID:33516-1752658200-1752660000@selfhelphome.org
SUMMARY:Morning Time Exercise
DESCRIPTION:Join us for Exercise classes Monday – Friday from 9:30-10:00AM
URL:https://selfhelphome.org/event/morningexercise/2025-07-16/
CATEGORIES:Health & Fitness
END:VEVENT
BEGIN:VEVENT
DTSTART;TZID=America/Chicago:20250717T093000
DTEND;TZID=America/Chicago:20250717T100000
DTSTAMP:20260420T125859
CREATED:20230112T053551Z
LAST-MODIFIED:20230112T053551Z
UID:33518-1752744600-1752746400@selfhelphome.org
SUMMARY:Morning Time Exercise
DESCRIPTION:Join us for Exercise classes Monday – Friday from 9:30-10:00AM
URL:https://selfhelphome.org/event/morningexercise/2025-07-17/
CATEGORIES:Health & Fitness
END:VEVENT
BEGIN:VEVENT
DTSTART;TZID=America/Chicago:20250718T093000
DTEND;TZID=America/Chicago:20250718T100000
DTSTAMP:20260420T125859
CREATED:20230112T053551Z
LAST-MODIFIED:20230112T053551Z
UID:33521-1752831000-1752832800@selfhelphome.org
SUMMARY:Morning Time Exercise
DESCRIPTION:Join us for Exercise classes Monday – Friday from 9:30-10:00AM
URL:https://selfhelphome.org/event/morningexercise/2025-07-18/
CATEGORIES:Health & Fitness
END:VEVENT
BEGIN:VEVENT
DTSTART;TZID=America/Chicago:20250721T093000
DTEND;TZID=America/Chicago:20250721T100000
DTSTAMP:20260420T125859
CREATED:20230112T053551Z
LAST-MODIFIED:20230112T053551Z
UID:33556-1753090200-1753092000@selfhelphome.org
SUMMARY:Morning Time Exercise
DESCRIPTION:Join us for Exercise classes Monday – Friday from 9:30-10:00AM
URL:https://selfhelphome.org/event/morningexercise/2025-07-21/
CATEGORIES:Health & Fitness
END:VEVENT
BEGIN:VEVENT
DTSTART;TZID=America/Chicago:20250722T093000
DTEND;TZID=America/Chicago:20250722T100000
DTSTAMP:20260420T125859
CREATED:20230112T053551Z
LAST-MODIFIED:20230112T053551Z
UID:33559-1753176600-1753178400@selfhelphome.org
SUMMARY:Morning Time Exercise
DESCRIPTION:Join us for Exercise classes Monday – Friday from 9:30-10:00AM
URL:https://selfhelphome.org/event/morningexercise/2025-07-22/
CATEGORIES:Health & Fitness
END:VEVENT
BEGIN:VEVENT
DTSTART;TZID=America/Chicago:20250723T093000
DTEND;TZID=America/Chicago:20250723T100000
DTSTAMP:20260420T125859
CREATED:20230112T053551Z
LAST-MODIFIED:20230112T053551Z
UID:33563-1753263000-1753264800@selfhelphome.org
SUMMARY:Morning Time Exercise
DESCRIPTION:Join us for Exercise classes Monday – Friday from 9:30-10:00AM
URL:https://selfhelphome.org/event/morningexercise/2025-07-23/
CATEGORIES:Health & Fitness
END:VEVENT
BEGIN:VEVENT
DTSTART;TZID=America/Chicago:20250724T093000
DTEND;TZID=America/Chicago:20250724T100000
DTSTAMP:20260420T125859
CREATED:20230112T053551Z
LAST-MODIFIED:20230112T053551Z
UID:33565-1753349400-1753351200@selfhelphome.org
SUMMARY:Morning Time Exercise
DESCRIPTION:Join us for Exercise classes Monday – Friday from 9:30-10:00AM
URL:https://selfhelphome.org/event/morningexercise/2025-07-24/
CATEGORIES:Health & Fitness
END:VEVENT
BEGIN:VEVENT
DTSTART;TZID=America/Chicago:20250725T093000
DTEND;TZID=America/Chicago:20250725T100000
DTSTAMP:20260420T125859
CREATED:20230112T053551Z
LAST-MODIFIED:20230112T053551Z
UID:33568-1753435800-1753437600@selfhelphome.org
SUMMARY:Morning Time Exercise
DESCRIPTION:Join us for Exercise classes Monday – Friday from 9:30-10:00AM
URL:https://selfhelphome.org/event/morningexercise/2025-07-25/
CATEGORIES:Health & Fitness
END:VEVENT
BEGIN:VEVENT
DTSTART;TZID=America/Chicago:20250728T093000
DTEND;TZID=America/Chicago:20250728T100000
DTSTAMP:20260420T125859
CREATED:20230112T053551Z
LAST-MODIFIED:20230112T053551Z
UID:33571-1753695000-1753696800@selfhelphome.org
SUMMARY:Morning Time Exercise
DESCRIPTION:Join us for Exercise classes Monday – Friday from 9:30-10:00AM
URL:https://selfhelphome.org/event/morningexercise/2025-07-28/
CATEGORIES:Health & Fitness
END:VEVENT
BEGIN:VEVENT
DTSTART;TZID=America/Chicago:20250729T093000
DTEND;TZID=America/Chicago:20250729T100000
DTSTAMP:20260420T125859
CREATED:20230112T053551Z
LAST-MODIFIED:20230112T053551Z
UID:33579-1753781400-1753783200@selfhelphome.org
SUMMARY:Morning Time Exercise
DESCRIPTION:Join us for Exercise classes Monday – Friday from 9:30-10:00AM
URL:https://selfhelphome.org/event/morningexercise/2025-07-29/
CATEGORIES:Health & Fitness
END:VEVENT
BEGIN:VEVENT
DTSTART;TZID=America/Chicago:20250730T093000
DTEND;TZID=America/Chicago:20250730T100000
DTSTAMP:20260420T125859
CREATED:20230112T053551Z
LAST-MODIFIED:20230112T053551Z
UID:33581-1753867800-1753869600@selfhelphome.org
SUMMARY:Morning Time Exercise
DESCRIPTION:Join us for Exercise classes Monday – Friday from 9:30-10:00AM
URL:https://selfhelphome.org/event/morningexercise/2025-07-30/
CATEGORIES:Health & Fitness
END:VEVENT
BEGIN:VEVENT
DTSTART;TZID=America/Chicago:20250731T093000
DTEND;TZID=America/Chicago:20250731T100000
DTSTAMP:20260420T125859
CREATED:20230112T053551Z
LAST-MODIFIED:20230112T053551Z
UID:33584-1753954200-1753956000@selfhelphome.org
SUMMARY:Morning Time Exercise
DESCRIPTION:Join us for Exercise classes Monday – Friday from 9:30-10:00AM
URL:https://selfhelphome.org/event/morningexercise/2025-07-31/
CATEGORIES:Health & Fitness
END:VEVENT
END:VCALENDAR